BEGIN:VCALENDAR
VERSION:2.0
PRODID:spatie/icalendar-generator
DESCRIPTION:Veranstaltungen von Songwriter Martin Pepper
X-WR-CALDESC:Veranstaltungen von Songwriter Martin Pepper
REFRESH-INTERVAL;VALUE=DURATION:PT1440M
X-PUBLISHED-TTL:PT1440M
BEGIN:VTIMEZONE
TZID:Europe/Berlin
BEGIN:STANDARD
DTSTART:20241027T030000Z
TZOFFSETFROM:+0200
TZOFFSETTO:+0100
END:STANDARD
BEGIN:DAYLIGHT
DTSTART:20250330T020000Z
TZOFFSETFROM:+0100
TZOFFSETTO:+0200
END:DAYLIGHT
END:VTIMEZONE
BEGIN:VTIMEZONE
TZID:UTC
BEGIN:STANDARD
DTSTART:20250723T204330Z
TZOFFSETFROM:+0000
TZOFFSETTO:+0000
END:STANDARD
END:VTIMEZONE
BEGIN:VEVENT
UID:99-34
DTSTAMP:20260419T204330Z
SUMMARY:flügelleicht in Moosburg
LOCATION:
ORGANIZER;CN=martin pepper:MAILTO:mail@peppersongs.com
DTSTART;TZID=Europe/Berlin;VALUE=DATE:20250414
DTEND;TZID=Europe/Berlin;VALUE=DATE:20250415
X-ALT-DESC;FMTTYPE=TEXT/HTML:<p>Montag\, 14.04.2025\, 19.00 Uhr</p>\n<p>Fre
 ie Christengemeinde „Neues Leben“   </p>\n<p>Degernpoint K1<br />\n
 85368 Moosburg</p>\n<p>Kontakt: Pastor Benjamin Hinze<br />\nMobil: +49 1
 75-6156163<br />\nEmail: b.hinze@fcg-neuesleben.com</p>\n
CATEGORIES:Konzerte 2025
URL;VALUE=URI:https://martinpepper.de/mc-events/fluegelleicht-in-moosburg/
METHOD:PUBLISH
END:VEVENT
END:VCALENDAR