BEGIN:VCALENDAR
VERSION:2.0
PRODID:spatie/icalendar-generator
DESCRIPTION:Veranstaltungen von Songwriter Martin Pepper
X-WR-CALDESC:Veranstaltungen von Songwriter Martin Pepper
REFRESH-INTERVAL;VALUE=DURATION:PT1440M
X-PUBLISHED-TTL:PT1440M
BEGIN:VTIMEZONE
TZID:Europe/Berlin
BEGIN:STANDARD
DTSTART:20241027T030000Z
TZOFFSETFROM:+0200
TZOFFSETTO:+0100
END:STANDARD
BEGIN:DAYLIGHT
DTSTART:20250330T020000Z
TZOFFSETFROM:+0100
TZOFFSETTO:+0200
END:DAYLIGHT
END:VTIMEZONE
BEGIN:VTIMEZONE
TZID:UTC
BEGIN:STANDARD
DTSTART:20250723T233315Z
TZOFFSETFROM:+0000
TZOFFSETTO:+0000
END:STANDARD
END:VTIMEZONE
BEGIN:VEVENT
UID:92-27
DTSTAMP:20260419T233315Z
SUMMARY:flügelleicht in Marburg
LOCATION:
ORGANIZER;CN=martin pepper:MAILTO:mail@peppersongs.com
DTSTART;TZID=Europe/Berlin;VALUE=DATE:20250418
DTEND;TZID=Europe/Berlin;VALUE=DATE:20250419
X-ALT-DESC;FMTTYPE=TEXT/HTML:<p>Karfreitag: 18.April\, Beginn 15.00 Uhr\, E
 inlass 14.30 Uhr</p>\n<p>TABOR-Gemeindezentrum</p>\n<p>An der Schäferbuch
 e 15<br />\n35039 Marburg</p>\n<p>Kontakt: Matthias Frey<br />\n+49 178 33
  70 880</p>\n
CATEGORIES:Konzerte 2025
URL;VALUE=URI:https://martinpepper.de/mc-events/fluegelleicht-in-marburg/
METHOD:PUBLISH
END:VEVENT
END:VCALENDAR