BEGIN:VCALENDAR
VERSION:2.0
PRODID:spatie/icalendar-generator
DESCRIPTION:Veranstaltungen von Songwriter Martin Pepper
X-WR-CALDESC:Veranstaltungen von Songwriter Martin Pepper
REFRESH-INTERVAL;VALUE=DURATION:PT1440M
X-PUBLISHED-TTL:PT1440M
BEGIN:VTIMEZONE
TZID:Europe/Berlin
BEGIN:STANDARD
DTSTART:20241027T030000Z
TZOFFSETFROM:+0200
TZOFFSETTO:+0100
END:STANDARD
BEGIN:DAYLIGHT
DTSTART:20250330T020000Z
TZOFFSETFROM:+0100
TZOFFSETTO:+0200
END:DAYLIGHT
BEGIN:STANDARD
DTSTART:20251026T030000Z
TZOFFSETFROM:+0200
TZOFFSETTO:+0100
END:STANDARD
END:VTIMEZONE
BEGIN:VTIMEZONE
TZID:UTC
BEGIN:STANDARD
DTSTART:20250724T032347Z
TZOFFSETFROM:+0000
TZOFFSETTO:+0000
END:STANDARD
END:VTIMEZONE
BEGIN:VEVENT
UID:91-26
DTSTAMP:20260420T032347Z
SUMMARY:flügelleicht in Bad Dürrheim-Oberbaldingen
LOCATION:
ORGANIZER;CN=martin pepper:MAILTO:mail@peppersongs.com
DTSTART;TZID=Europe/Berlin;VALUE=DATE:20250712
DTEND;TZID=Europe/Berlin;VALUE=DATE:20250713
X-ALT-DESC;FMTTYPE=TEXT/HTML:<p>Samstag\, 12.07.2025\, 19.00 Uhr</p>\n<p>Ev
 angelische Kirche Oberbaldingen</p>\n<p>Schulplatz 12<br />\n78073 Bad Dü
 rrheim-Oberbaldingen.</p>\n<p>Kontak: Christine Breithut<br />\nTel.: 0157
 3-3388659</p>\n
CATEGORIES:Konzerte 2025
URL;VALUE=URI:https://martinpepper.de/mc-events/fluegelleicht-in-bad-duerrh
 eim-oberbaldingen/
METHOD:PUBLISH
END:VEVENT
END:VCALENDAR