BEGIN:VCALENDAR
VERSION:2.0
PRODID:spatie/icalendar-generator
DESCRIPTION:Veranstaltungen von Songwriter Martin Pepper
X-WR-CALDESC:Veranstaltungen von Songwriter Martin Pepper
REFRESH-INTERVAL;VALUE=DURATION:PT1440M
X-PUBLISHED-TTL:PT1440M
BEGIN:VTIMEZONE
TZID:Europe/Berlin
BEGIN:STANDARD
DTSTART:20241027T030000Z
TZOFFSETFROM:+0200
TZOFFSETTO:+0100
END:STANDARD
BEGIN:DAYLIGHT
DTSTART:20250330T020000Z
TZOFFSETFROM:+0100
TZOFFSETTO:+0200
END:DAYLIGHT
END:VTIMEZONE
BEGIN:VTIMEZONE
TZID:UTC
BEGIN:STANDARD
DTSTART:20250723T233337Z
TZOFFSETFROM:+0000
TZOFFSETTO:+0000
END:STANDARD
END:VTIMEZONE
BEGIN:VEVENT
UID:89-24
DTSTAMP:20260419T233337Z
SUMMARY:flügelleicht in Walldorf
LOCATION:
ORGANIZER;CN=martin pepper:MAILTO:mail@peppersongs.com
DTSTART;TZID=Europe/Berlin;VALUE=DATE:20250322
DTEND;TZID=Europe/Berlin;VALUE=DATE:20250323
X-ALT-DESC;FMTTYPE=TEXT/HTML:<p>Samstag\, 22.03.2025\, 19.30 Uhr</p>\n<p>Fr
 eie evangelische Gemeinde Wiesloch-Walldorf</p>\n<p>Gemeindezentrum<br />\
 nBunsenstr. 1<br />\n69190 Walldorf</p>\n<p>Kontakt: Alexander Lucas<br />
 \nTelefon Gemeindebüro mit Anrufbeantworter: 06227 - 841 5526<br />\nalex
 ander.lucas@feg-wiwa.de<br />\nwww.feg-wiwa.de</p>\n
CATEGORIES:Konzerte 2025
URL;VALUE=URI:https://martinpepper.de/mc-events/fluegelleicht-in-walldorf/
METHOD:PUBLISH
END:VEVENT
END:VCALENDAR