BEGIN:VCALENDAR
VERSION:2.0
PRODID:spatie/icalendar-generator
DESCRIPTION:Veranstaltungen von Songwriter Martin Pepper
X-WR-CALDESC:Veranstaltungen von Songwriter Martin Pepper
REFRESH-INTERVAL;VALUE=DURATION:PT1440M
X-PUBLISHED-TTL:PT1440M
BEGIN:VTIMEZONE
TZID:Europe/Berlin
BEGIN:STANDARD
DTSTART:20241027T030000Z
TZOFFSETFROM:+0200
TZOFFSETTO:+0100
END:STANDARD
BEGIN:DAYLIGHT
DTSTART:20250330T020000Z
TZOFFSETFROM:+0100
TZOFFSETTO:+0200
END:DAYLIGHT
END:VTIMEZONE
BEGIN:VTIMEZONE
TZID:UTC
BEGIN:STANDARD
DTSTART:20250723T220310Z
TZOFFSETFROM:+0000
TZOFFSETTO:+0000
END:STANDARD
END:VTIMEZONE
BEGIN:VEVENT
UID:86-22
DTSTAMP:20260419T220310Z
SUMMARY:flügelleicht in Nellmersbach
LOCATION:
ORGANIZER;CN=martin pepper:MAILTO:mail@peppersongs.com
DTSTART;TZID=Europe/Berlin;VALUE=DATE:20250323
DTEND;TZID=Europe/Berlin;VALUE=DATE:20250324
X-ALT-DESC;FMTTYPE=TEXT/HTML:<p>onntag: 23.03.2025\, 19.00 Uhr</p>\n<p>Evan
 gelische Kirche</p>\n<p>Kirchgasse 6<br />\n71397 Nellmersbach</p>\n<p>Kon
 takt: Magdalene Kellermann<br />\nTel.: 07195-957900<br />\nMobil: 0162-28
 90271<br />\nMail: <a href="mailto:m.kellermann@musikschule-hoffnungsland
 .de">m.kellermann@musikschule-hoffnungsland.de</a></p>\n
CATEGORIES:Konzerte 2025
URL;VALUE=URI:https://martinpepper.de/mc-events/fluegelleicht-in-nellmersba
 ch/
METHOD:PUBLISH
END:VEVENT
END:VCALENDAR