BEGIN:VCALENDAR
VERSION:2.0
PRODID:spatie/icalendar-generator
DESCRIPTION:Veranstaltungen von Songwriter Martin Pepper
X-WR-CALDESC:Veranstaltungen von Songwriter Martin Pepper
REFRESH-INTERVAL;VALUE=DURATION:PT1440M
X-PUBLISHED-TTL:PT1440M
BEGIN:VTIMEZONE
TZID:Europe/Berlin
BEGIN:STANDARD
DTSTART:20241027T030000Z
TZOFFSETFROM:+0200
TZOFFSETTO:+0100
END:STANDARD
BEGIN:DAYLIGHT
DTSTART:20250330T020000Z
TZOFFSETFROM:+0100
TZOFFSETTO:+0200
END:DAYLIGHT
END:VTIMEZONE
BEGIN:VTIMEZONE
TZID:UTC
BEGIN:STANDARD
DTSTART:20250724T015955Z
TZOFFSETFROM:+0000
TZOFFSETTO:+0000
END:STANDARD
END:VTIMEZONE
BEGIN:VEVENT
UID:7-4
DTSTAMP:20260420T015955Z
SUMMARY:flügelleicht in Aistaig
LOCATION:
ORGANIZER;CN=martin pepper:MAILTO:mail@peppersongs.com
DTSTART;TZID=Europe/Berlin;VALUE=DATE:20250221
DTEND;TZID=Europe/Berlin;VALUE=DATE:20250222
X-ALT-DESC;FMTTYPE=TEXT/HTML:<p>Freitag 21.2.2025\, 19.00 Uhr</p>\n<p>Evang
 elische Kirchengemeinde Aistaig</p>\n<p><strong>Veranstaltungsort:</strong><br />\nGemeindehaus<br />\nBühlgarten 10<br />\n78727 Oberndorf am Neck
 ar</p>\n
CATEGORIES:Konzerte 2025
URL;VALUE=URI:https://martinpepper.de/mc-events/fluegelleicht-in-aistaig/
METHOD:PUBLISH
END:VEVENT
END:VCALENDAR