BEGIN:VCALENDAR
VERSION:2.0
PRODID:spatie/icalendar-generator
DESCRIPTION:Veranstaltungen von Songwriter Martin Pepper
X-WR-CALDESC:Veranstaltungen von Songwriter Martin Pepper
REFRESH-INTERVAL;VALUE=DURATION:PT1440M
X-PUBLISHED-TTL:PT1440M
BEGIN:VTIMEZONE
TZID:Europe/Berlin
BEGIN:DAYLIGHT
DTSTART:20260329T020000Z
TZOFFSETFROM:+0100
TZOFFSETTO:+0200
END:DAYLIGHT
BEGIN:STANDARD
DTSTART:20261025T030000Z
TZOFFSETFROM:+0200
TZOFFSETTO:+0100
END:STANDARD
BEGIN:DAYLIGHT
DTSTART:20270328T020000Z
TZOFFSETFROM:+0100
TZOFFSETTO:+0200
END:DAYLIGHT
END:VTIMEZONE
BEGIN:VTIMEZONE
TZID:UTC
BEGIN:STANDARD
DTSTART:20250723T114651Z
TZOFFSETFROM:+0000
TZOFFSETTO:+0000
END:STANDARD
END:VTIMEZONE
BEGIN:VEVENT
UID:696-48
DTSTAMP:20260419T114651Z
SUMMARY:Konzert in Gifhorn - Gamsen
LOCATION:
ORGANIZER;CN=martin pepper:MAILTO:mail@peppersongs.com
DTSTART;TZID=Europe/Berlin;VALUE=DATE:20261107
DTEND;TZID=Europe/Berlin;VALUE=DATE:20261108
X-ALT-DESC;FMTTYPE=TEXT/HTML:<p><strong>Samstag 7.11.2026 </strong><strong>
 Kaleidoskop - Konzert in Gifhorn - Gamsen</strong></p>\n<p>Beginn 17:00 Uh
 r</p>\n<p>Auftrittsort:<br />\nNicolaikirche<br />\nSteinweg 19<br />\n385
 18 Gifhorn</p>\n<p>Veranstalter: Adventgemeinde Gifhorn-Mitte</p>\n<p>Kont
 akt: Daniel Dömeland<br />\nSamlandstraße 27<br />\n38518 Gifhorn</p>\n<p>Tel: +49 5371 990154<br />\nmobil: +49 163 7577693<br />\nE-Mail: <a>doemeland@googlemail.com</a></p>\n
CATEGORIES:Konzerte 2026
URL;VALUE=URI:https://martinpepper.de/mc-events/konzert-in-gifhorn-gamsen/
METHOD:PUBLISH
END:VEVENT
END:VCALENDAR