BEGIN:VCALENDAR
VERSION:2.0
PRODID:spatie/icalendar-generator
DESCRIPTION:Veranstaltungen von Songwriter Martin Pepper
X-WR-CALDESC:Veranstaltungen von Songwriter Martin Pepper
REFRESH-INTERVAL;VALUE=DURATION:PT1440M
X-PUBLISHED-TTL:PT1440M
BEGIN:VTIMEZONE
TZID:Europe/Berlin
BEGIN:DAYLIGHT
DTSTART:20260329T020000Z
TZOFFSETFROM:+0100
TZOFFSETTO:+0200
END:DAYLIGHT
BEGIN:STANDARD
DTSTART:20261025T030000Z
TZOFFSETFROM:+0200
TZOFFSETTO:+0100
END:STANDARD
BEGIN:DAYLIGHT
DTSTART:20270328T020000Z
TZOFFSETFROM:+0100
TZOFFSETTO:+0200
END:DAYLIGHT
END:VTIMEZONE
BEGIN:VTIMEZONE
TZID:UTC
BEGIN:STANDARD
DTSTART:20250725T122923Z
TZOFFSETFROM:+0000
TZOFFSETTO:+0000
END:STANDARD
END:VTIMEZONE
BEGIN:VEVENT
UID:694-68
DTSTAMP:20260421T122923Z
SUMMARY:Konzert in 31303 Burgdorf
LOCATION:
ORGANIZER;CN=martin pepper:MAILTO:mail@peppersongs.com
DTSTART;TZID=Europe/Berlin;VALUE=DATE:20261031
DTEND;TZID=Europe/Berlin;VALUE=DATE:20261101
X-ALT-DESC;FMTTYPE=TEXT/HTML:<p><strong>31.Oktober Konzert in 31303 Burgdor
 f\, Beginn 19.00 Uhr</strong></p>\n<p>Landeskirchliche Gemeinschaft Burgdo
 rf e.V.</p>\n<p>Kontakt:Marit Höing<br />\nHeinrichstr.12<br />\n31303 Bu
 rgdorf<br />\nTel.: 01575-2724609</p>\n
CATEGORIES:Konzerte 2026
URL;VALUE=URI:https://martinpepper.de/mc-events/konzert-in-31303-burgdorf/
METHOD:PUBLISH
END:VEVENT
END:VCALENDAR