BEGIN:VCALENDAR
VERSION:2.0
PRODID:spatie/icalendar-generator
DESCRIPTION:Veranstaltungen von Songwriter Martin Pepper
X-WR-CALDESC:Veranstaltungen von Songwriter Martin Pepper
REFRESH-INTERVAL;VALUE=DURATION:PT1440M
X-PUBLISHED-TTL:PT1440M
BEGIN:VTIMEZONE
TZID:Europe/Berlin
BEGIN:DAYLIGHT
DTSTART:20260329T020000Z
TZOFFSETFROM:+0100
TZOFFSETTO:+0200
END:DAYLIGHT
BEGIN:STANDARD
DTSTART:20261025T030000Z
TZOFFSETFROM:+0200
TZOFFSETTO:+0100
END:STANDARD
BEGIN:DAYLIGHT
DTSTART:20270328T020000Z
TZOFFSETFROM:+0100
TZOFFSETTO:+0200
END:DAYLIGHT
END:VTIMEZONE
BEGIN:VTIMEZONE
TZID:UTC
BEGIN:STANDARD
DTSTART:20250725T132823Z
TZOFFSETFROM:+0000
TZOFFSETTO:+0000
END:STANDARD
END:VTIMEZONE
BEGIN:VEVENT
UID:691-66
DTSTAMP:20260421T132823Z
SUMMARY:Konzert in 10437 Berlin
LOCATION:
ORGANIZER;CN=martin pepper:MAILTO:mail@peppersongs.com
DTSTART;TZID=Europe/Berlin;VALUE=DATE:20260926
DTEND;TZID=Europe/Berlin;VALUE=DATE:20260927
X-ALT-DESC;FMTTYPE=TEXT/HTML:<p><strong>Samstag\, 26. September</strong> <strong>Kaleidoskop - Konzert  in 10437 Berlin<br />\nBeginn 19.00 Uhr</p>\n<p>EFG Zoar<br />\nCantianstrasse 9<strong>\; </strong></p>\n<p><a href="https://efg-zoar.de/">https://efg-zoar.de/</a><br />\n<a href="tel:0304484267">Tel:0304484267</a></p>\n
CATEGORIES:Konzerte 2026
URL;VALUE=URI:https://martinpepper.de/mc-events/konzert-in-10437-berlin/
METHOD:PUBLISH
END:VEVENT
END:VCALENDAR