BEGIN:VCALENDAR
VERSION:2.0
PRODID:spatie/icalendar-generator
DESCRIPTION:Veranstaltungen von Songwriter Martin Pepper
X-WR-CALDESC:Veranstaltungen von Songwriter Martin Pepper
REFRESH-INTERVAL;VALUE=DURATION:PT1440M
X-PUBLISHED-TTL:PT1440M
BEGIN:VTIMEZONE
TZID:Europe/Berlin
BEGIN:DAYLIGHT
DTSTART:20260329T020000Z
TZOFFSETFROM:+0100
TZOFFSETTO:+0200
END:DAYLIGHT
BEGIN:STANDARD
DTSTART:20261025T030000Z
TZOFFSETFROM:+0200
TZOFFSETTO:+0100
END:STANDARD
END:VTIMEZONE
BEGIN:VTIMEZONE
TZID:UTC
BEGIN:STANDARD
DTSTART:20250725T135107Z
TZOFFSETFROM:+0000
TZOFFSETTO:+0000
END:STANDARD
END:VTIMEZONE
BEGIN:VEVENT
UID:688-65
DTSTAMP:20260421T135107Z
SUMMARY:Konzert in 15757 Halbe
LOCATION:
ORGANIZER;CN=martin pepper:MAILTO:mail@peppersongs.com
DTSTART;TZID=Europe/Berlin;VALUE=DATE:20260919
DTEND;TZID=Europe/Berlin;VALUE=DATE:20260920
X-ALT-DESC;FMTTYPE=TEXT/HTML:<p><strong>Samstag\, 19. September</strong> <strong>Kaleidoskop - Konzert  in 15757 Halbe</strong></p>\n<p>Ev. Dankes 
 - Kirche\,<br />\nKirchstrasse 7<br />\n15757 Halbe</p>\n<p>Kontakt: Micha
 el Henseler<br />\n<a href="mailto:mailto:michael.henseler@kkzf.de">mich
 ael.henseler@kkzf.de</a><br />\nTelefonnummer: 015156394014</p>\n
CATEGORIES:Konzerte 2026
URL;VALUE=URI:https://martinpepper.de/mc-events/konzert-in-15757-halbe/
METHOD:PUBLISH
END:VEVENT
END:VCALENDAR