BEGIN:VCALENDAR
VERSION:2.0
PRODID:spatie/icalendar-generator
DESCRIPTION:Veranstaltungen von Songwriter Martin Pepper
X-WR-CALDESC:Veranstaltungen von Songwriter Martin Pepper
REFRESH-INTERVAL;VALUE=DURATION:PT1440M
X-PUBLISHED-TTL:PT1440M
BEGIN:VTIMEZONE
TZID:Europe/Berlin
BEGIN:STANDARD
DTSTART:20251026T030000Z
TZOFFSETFROM:+0200
TZOFFSETTO:+0100
END:STANDARD
BEGIN:DAYLIGHT
DTSTART:20260329T020000Z
TZOFFSETFROM:+0100
TZOFFSETTO:+0200
END:DAYLIGHT
BEGIN:STANDARD
DTSTART:20261025T030000Z
TZOFFSETFROM:+0200
TZOFFSETTO:+0100
END:STANDARD
END:VTIMEZONE
BEGIN:VTIMEZONE
TZID:UTC
BEGIN:STANDARD
DTSTART:20250725T122755Z
TZOFFSETFROM:+0000
TZOFFSETTO:+0000
END:STANDARD
END:VTIMEZONE
BEGIN:VEVENT
UID:682-63
DTSTAMP:20260421T122755Z
SUMMARY:Konzert in 4113 St. Martin im Mühlkreis (A)
LOCATION:
ORGANIZER;CN=martin pepper:MAILTO:mail@peppersongs.com
DTSTART;TZID=Europe/Berlin;VALUE=DATE:20260620
DTEND;TZID=Europe/Berlin;VALUE=DATE:20260621
X-ALT-DESC;FMTTYPE=TEXT/HTML:<p><strong>Samstag\, 20. Juni Kaleidoskop Konz
 ert 4113 St. Martin im Mühlkreis (A)<br />\nBeginn 20.00</strong></p>\n<p style="margin: 0cm"><span style="font-size: 11.0pt">Pfarrsaal der Rö
 m. Kath. Kirche </span></p>\n<p style="margin: 0cm"><a href="https://w
 ww.google.com/maps/place/data=!4m2!3m1!1s0x477386b139ede63b:0xefce7ec026f1
 9391?sa=X&amp;amp\;ved=1t:8290&amp;amp\;ictx=111"><span style="font-size: 11.0pt">Markt 17\, 4113 St. Martin im Mühlkreis</span></a></p>\n
CATEGORIES:Konzerte 2026
URL;VALUE=URI:https://martinpepper.de/mc-events/konzert-in-4113-st-martin-i
 m-muehlkreis-a/
METHOD:PUBLISH
END:VEVENT
END:VCALENDAR