BEGIN:VCALENDAR
VERSION:2.0
PRODID:spatie/icalendar-generator
DESCRIPTION:Veranstaltungen von Songwriter Martin Pepper
X-WR-CALDESC:Veranstaltungen von Songwriter Martin Pepper
REFRESH-INTERVAL;VALUE=DURATION:PT1440M
X-PUBLISHED-TTL:PT1440M
BEGIN:VTIMEZONE
TZID:Europe/Berlin
BEGIN:STANDARD
DTSTART:20251026T030000Z
TZOFFSETFROM:+0200
TZOFFSETTO:+0100
END:STANDARD
BEGIN:DAYLIGHT
DTSTART:20260329T020000Z
TZOFFSETFROM:+0100
TZOFFSETTO:+0200
END:DAYLIGHT
BEGIN:STANDARD
DTSTART:20261025T030000Z
TZOFFSETFROM:+0200
TZOFFSETTO:+0100
END:STANDARD
END:VTIMEZONE
BEGIN:VTIMEZONE
TZID:UTC
BEGIN:STANDARD
DTSTART:20250725T123209Z
TZOFFSETFROM:+0000
TZOFFSETTO:+0000
END:STANDARD
END:VTIMEZONE
BEGIN:VEVENT
UID:676-59
DTSTAMP:20260421T123209Z
SUMMARY:Konzert in 44866 Wattenscheid
LOCATION:
ORGANIZER;CN=martin pepper:MAILTO:mail@peppersongs.com
DTSTART;TZID=Europe/Berlin;VALUE=DATE:20260528
DTEND;TZID=Europe/Berlin;VALUE=DATE:20260529
X-ALT-DESC;FMTTYPE=TEXT/HTML:<p><strong>28.Mai Konzert\, 44866 Wattenscheid
 \, Beginn 19.00 Uhr</strong></p>\n<p>Kontakt: Nickodem Chronz<br />\nTel.:
  01716283446</p>\n<p>Auf der Kirchenburg 3<br />\n44866 Bochum-Wattenschei
 d</p>\n
CATEGORIES:Konzerte 2026
URL;VALUE=URI:https://martinpepper.de/mc-events/konzert-in-44866-wattensche
 id/
METHOD:PUBLISH
END:VEVENT
END:VCALENDAR