BEGIN:VCALENDAR
VERSION:2.0
PRODID:spatie/icalendar-generator
DESCRIPTION:Veranstaltungen von Songwriter Martin Pepper
X-WR-CALDESC:Veranstaltungen von Songwriter Martin Pepper
REFRESH-INTERVAL;VALUE=DURATION:PT1440M
X-PUBLISHED-TTL:PT1440M
BEGIN:VTIMEZONE
TZID:Europe/Berlin
BEGIN:STANDARD
DTSTART:20241027T030000Z
TZOFFSETFROM:+0200
TZOFFSETTO:+0100
END:STANDARD
BEGIN:DAYLIGHT
DTSTART:20250330T020000Z
TZOFFSETFROM:+0100
TZOFFSETTO:+0200
END:DAYLIGHT
END:VTIMEZONE
BEGIN:VTIMEZONE
TZID:UTC
BEGIN:STANDARD
DTSTART:20250724T020940Z
TZOFFSETFROM:+0000
TZOFFSETTO:+0000
END:STANDARD
END:VTIMEZONE
BEGIN:VEVENT
UID:6-3
DTSTAMP:20260420T020940Z
SUMMARY:Gottesdienst am Flügel in Berlin
LOCATION:
ORGANIZER;CN=martin pepper:MAILTO:mail@peppersongs.com
DTSTART;TZID=Europe/Berlin;VALUE=DATE:20250202
DTEND;TZID=Europe/Berlin;VALUE=DATE:20250203
X-ALT-DESC;FMTTYPE=TEXT/HTML:<p>Sonntag: 02.02.2025\, 10.00 Uhr</p>\n<p>„
 Wärme mich mit Hoffnung“ Gottesdienst am Flügel</p>\n<p>Borussiastraß
 e 54<br />12099 Berlin</p>\n<p>Tel.: 030 7516961<br />Webseite: <a href="\">https://gemeinde-tempelhof.de/</a></p>\n
CATEGORIES:Konzerte 2025
URL;VALUE=URI:https://martinpepper.de/mc-events/gottesdienst-am-fluegel-in-
 berlin/
METHOD:PUBLISH
END:VEVENT
END:VCALENDAR