BEGIN:VCALENDAR
VERSION:2.0
PRODID:spatie/icalendar-generator
DESCRIPTION:Veranstaltungen von Songwriter Martin Pepper
X-WR-CALDESC:Veranstaltungen von Songwriter Martin Pepper
REFRESH-INTERVAL;VALUE=DURATION:PT1440M
X-PUBLISHED-TTL:PT1440M
BEGIN:VTIMEZONE
TZID:Europe/Berlin
BEGIN:DAYLIGHT
DTSTART:20250330T020000Z
TZOFFSETFROM:+0100
TZOFFSETTO:+0200
END:DAYLIGHT
BEGIN:STANDARD
DTSTART:20251026T030000Z
TZOFFSETFROM:+0200
TZOFFSETTO:+0100
END:STANDARD
END:VTIMEZONE
BEGIN:VTIMEZONE
TZID:UTC
BEGIN:STANDARD
DTSTART:20250724T052222Z
TZOFFSETFROM:+0000
TZOFFSETTO:+0000
END:STANDARD
END:VTIMEZONE
BEGIN:VEVENT
UID:19-14
DTSTAMP:20260420T052222Z
SUMMARY:flügelleicht in Meinersen-Ohof 
LOCATION:
ORGANIZER;CN=martin pepper:MAILTO:mail@peppersongs.com
DTSTART;TZID=Europe/Berlin;VALUE=DATE:20250831
DTEND;TZID=Europe/Berlin;VALUE=DATE:20250901
X-ALT-DESC;FMTTYPE=TEXT/HTML:<p>Sonntag 31.08.2025\, 18.00 Uhr</p>\n<p>Am W
 alde 3<br />38536 Meinersen-Ohof </p>\n<p>Kontakt:<br />Tel.: 05372-97839
 49<br />Mobil: 01514-0321742</p>\n
CATEGORIES:Konzerte 2025
URL;VALUE=URI:https://martinpepper.de/mc-events/fluegelleicht-in-meinersen-
 ohof/
METHOD:PUBLISH
END:VEVENT
END:VCALENDAR