BEGIN:VCALENDAR
VERSION:2.0
PRODID:spatie/icalendar-generator
DESCRIPTION:Veranstaltungen von Songwriter Martin Pepper
X-WR-CALDESC:Veranstaltungen von Songwriter Martin Pepper
REFRESH-INTERVAL;VALUE=DURATION:PT1440M
X-PUBLISHED-TTL:PT1440M
BEGIN:VTIMEZONE
TZID:Europe/Berlin
BEGIN:STANDARD
DTSTART:20241027T030000Z
TZOFFSETFROM:+0200
TZOFFSETTO:+0100
END:STANDARD
BEGIN:DAYLIGHT
DTSTART:20250330T020000Z
TZOFFSETFROM:+0100
TZOFFSETTO:+0200
END:DAYLIGHT
END:VTIMEZONE
BEGIN:VTIMEZONE
TZID:UTC
BEGIN:STANDARD
DTSTART:20250723T202216Z
TZOFFSETFROM:+0000
TZOFFSETTO:+0000
END:STANDARD
END:VTIMEZONE
BEGIN:VEVENT
UID:16-11
DTSTAMP:20260419T202216Z
SUMMARY:flügelleicht in Uetersen
LOCATION:
ORGANIZER;CN=martin pepper:MAILTO:mail@peppersongs.com
DTSTART;TZID=Europe/Berlin;VALUE=DATE:20250329
DTEND;TZID=Europe/Berlin;VALUE=DATE:20250330
X-ALT-DESC;FMTTYPE=TEXT/HTML:<p>Samstag: 29.03.2025\, Beginn um 19:30 Uhr </p>\n<p>Gemeinschaft Uetersen im Verband der Gemeinschaften in der Evangel
 ischen Kirche in Schleswig-Holstein e.V.</p>\n<p>Schmiedestrasse 22<br />2
 5436 Uetersen</p>\n<p>Kontakt: Gerald Schrader<br />https://www.gemeinscha
 ft-uetersen.de</p>\n
CATEGORIES:Konzerte 2025
URL;VALUE=URI:https://martinpepper.de/mc-events/fluegelleicht-in-uetersen/
METHOD:PUBLISH
END:VEVENT
END:VCALENDAR