BEGIN:VCALENDAR
VERSION:2.0
PRODID:spatie/icalendar-generator
DESCRIPTION:Veranstaltungen von Songwriter Martin Pepper
X-WR-CALDESC:Veranstaltungen von Songwriter Martin Pepper
REFRESH-INTERVAL;VALUE=DURATION:PT1440M
X-PUBLISHED-TTL:PT1440M
BEGIN:VTIMEZONE
TZID:Europe/Berlin
BEGIN:DAYLIGHT
DTSTART:20260329T020000Z
TZOFFSETFROM:+0100
TZOFFSETTO:+0200
END:DAYLIGHT
BEGIN:STANDARD
DTSTART:20261025T030000Z
TZOFFSETFROM:+0200
TZOFFSETTO:+0100
END:STANDARD
END:VTIMEZONE
BEGIN:VTIMEZONE
TZID:UTC
BEGIN:STANDARD
DTSTART:20250723T220121Z
TZOFFSETFROM:+0000
TZOFFSETTO:+0000
END:STANDARD
END:VTIMEZONE
BEGIN:VEVENT
UID:159-54
DTSTAMP:20260419T220121Z
SUMMARY:Konzert in Bunde (Ostfriesland)
LOCATION:
ORGANIZER;CN=martin pepper:MAILTO:mail@peppersongs.com
DTSTART;TZID=Europe/Berlin;VALUE=DATE:20260827
DTEND;TZID=Europe/Berlin;VALUE=DATE:20260828
X-ALT-DESC;FMTTYPE=TEXT/HTML:<p><strong>27. August</strong> <strong>Kaleid
 oskop - Konzert  in Bunde<br />\n</strong></p>\n<p>Evangelisch altreformi
 erten Kirche Bunde<br />\nWeenerstrasse 7<br />\n26831 Bunde (Ostfriesland
 )</p>\n<p>Ansprechpartner:<br />\nStefan Kolthoff</p>\n<p>Fliederweg 5<br />\n26831 Bunde<br />\nMobil: +49 160 8436666</p>\n
CATEGORIES:Konzerte 2026
URL;VALUE=URI:https://martinpepper.de/mc-events/konzert-in-bunde-ostfriesla
 nd/
METHOD:PUBLISH
END:VEVENT
END:VCALENDAR