BEGIN:VCALENDAR
VERSION:2.0
PRODID:spatie/icalendar-generator
DESCRIPTION:Veranstaltungen von Songwriter Martin Pepper
X-WR-CALDESC:Veranstaltungen von Songwriter Martin Pepper
REFRESH-INTERVAL;VALUE=DURATION:PT1440M
X-PUBLISHED-TTL:PT1440M
BEGIN:VTIMEZONE
TZID:Europe/Berlin
BEGIN:STANDARD
DTSTART:20251026T030000Z
TZOFFSETFROM:+0200
TZOFFSETTO:+0100
END:STANDARD
BEGIN:DAYLIGHT
DTSTART:20260329T020000Z
TZOFFSETFROM:+0100
TZOFFSETTO:+0200
END:DAYLIGHT
BEGIN:STANDARD
DTSTART:20261025T030000Z
TZOFFSETFROM:+0200
TZOFFSETTO:+0100
END:STANDARD
END:VTIMEZONE
BEGIN:VTIMEZONE
TZID:UTC
BEGIN:STANDARD
DTSTART:20250723T114558Z
TZOFFSETFROM:+0000
TZOFFSETTO:+0000
END:STANDARD
END:VTIMEZONE
BEGIN:VEVENT
UID:154-44
DTSTAMP:20260419T114558Z
SUMMARY:Konzert in 18276 Laage
LOCATION:
ORGANIZER;CN=martin pepper:MAILTO:mail@peppersongs.com
DTSTART;TZID=Europe/Berlin;VALUE=DATE:20260605
DTEND;TZID=Europe/Berlin;VALUE=DATE:20260606
X-ALT-DESC;FMTTYPE=TEXT/HTML:<p><strong>05. Juni Kaleidoskop - Konzert in L
 aage\, Beginn 19.00 Uhr</strong></p>\n<p>Kontakt Thomas Kretschmann<br />\
 n<a href="mailto:thomas.kretschmann@christophorus-gemeinde.de">thomas.kr
 etschmann@christophorus-gemeinde.de</a><br />\nAuszeit Event Christophorus
  Kirchengemeinde Pfarrstr. 4\, 18299 Laage</p>\n<p>Veranstalter Christopho
 rus Kirchengemeinde Laage<br />\n• Kontaktperson Thomas Kretschmann<br />\n• Veranstaltende Gemeinde Christophorus Kirchengemeinde Laage<br />\n
 • Konzertadresse Recknitz 8 (Kultur.Feldstein.Kirche Recknitz)<br />\n
 • Plz und Ort 18276 Plaaz OT Recknitz<br />\n• Tel. Kontakt 0162 49128
 63</p>\n
CATEGORIES:Konzerte 2026
URL;VALUE=URI:https://martinpepper.de/mc-events/konzert-in-18276-laage/
METHOD:PUBLISH
END:VEVENT
END:VCALENDAR