BEGIN:VCALENDAR
VERSION:2.0
PRODID:spatie/icalendar-generator
DESCRIPTION:Veranstaltungen von Songwriter Martin Pepper
X-WR-CALDESC:Veranstaltungen von Songwriter Martin Pepper
REFRESH-INTERVAL;VALUE=DURATION:PT1440M
X-PUBLISHED-TTL:PT1440M
BEGIN:VTIMEZONE
TZID:Europe/Berlin
BEGIN:STANDARD
DTSTART:20241027T030000Z
TZOFFSETFROM:+0200
TZOFFSETTO:+0100
END:STANDARD
BEGIN:DAYLIGHT
DTSTART:20250330T020000Z
TZOFFSETFROM:+0100
TZOFFSETTO:+0200
END:DAYLIGHT
END:VTIMEZONE
BEGIN:VTIMEZONE
TZID:UTC
BEGIN:STANDARD
DTSTART:20250723T191755Z
TZOFFSETFROM:+0000
TZOFFSETTO:+0000
END:STANDARD
END:VTIMEZONE
BEGIN:VEVENT
UID:15-10
DTSTAMP:20260419T191755Z
SUMMARY:flügelleicht in Lübeck
LOCATION:
ORGANIZER;CN=martin pepper:MAILTO:mail@peppersongs.com
DTSTART;TZID=Europe/Berlin;VALUE=DATE:20250328
DTEND;TZID=Europe/Berlin;VALUE=DATE:20250329
X-ALT-DESC;FMTTYPE=TEXT/HTML:<p>Freitag 28.03.2025\, 19.00 Uhr</p>\n<p>Geme
 inschaft Lübeck im Verband der Gemeinschaften in der Evangelischen Kirche
  in Schleswig-Holstein e.V.</p>\n<p>Glockengießerstraße 30<br />23552 L
 übeck</p>\n<p>Kontakt: Andreas Borschel<br />E-Mail: andreas.borschel@gmx
 .de <br />Tel.: 0451 704288</p>\n
CATEGORIES:Konzerte 2025
URL;VALUE=URI:https://martinpepper.de/mc-events/fluegelleicht-in-luebeck/
METHOD:PUBLISH
END:VEVENT
END:VCALENDAR