BEGIN:VCALENDAR
VERSION:2.0
PRODID:spatie/icalendar-generator
DESCRIPTION:Veranstaltungen von Songwriter Martin Pepper
X-WR-CALDESC:Veranstaltungen von Songwriter Martin Pepper
REFRESH-INTERVAL;VALUE=DURATION:PT1440M
X-PUBLISHED-TTL:PT1440M
BEGIN:VTIMEZONE
TZID:Europe/Berlin
BEGIN:STANDARD
DTSTART:20251026T030000Z
TZOFFSETFROM:+0200
TZOFFSETTO:+0100
END:STANDARD
BEGIN:DAYLIGHT
DTSTART:20260329T020000Z
TZOFFSETFROM:+0100
TZOFFSETTO:+0200
END:DAYLIGHT
END:VTIMEZONE
BEGIN:VTIMEZONE
TZID:UTC
BEGIN:STANDARD
DTSTART:20250723T220352Z
TZOFFSETFROM:+0000
TZOFFSETTO:+0000
END:STANDARD
END:VTIMEZONE
BEGIN:VEVENT
UID:143-2
DTSTAMP:20260419T220352Z
SUMMARY:Gebetskonzert in Sulz am Neckar
LOCATION:
ORGANIZER;CN=martin pepper:MAILTO:mail@peppersongs.com
DTSTART;TZID=Europe/Berlin;VALUE=DATE:20260118
DTEND;TZID=Europe/Berlin;VALUE=DATE:20260119
X-ALT-DESC;FMTTYPE=TEXT/HTML:<p>Gebetskonzert der Ev. Allianz in Sulz am Ne
 ckar</p>\n<p>Sonntag: 18.01.2026\, 18.00 Uhr\, Einlass ab 17:30 Uhr<br />\
 nEintritt frei\, Eine Sammlung zur Kostendeckung wird erhoben.</p>\n<p>Jes
 usCentrum Sulz<br />\nHolzhauser Str. 4<br />\nDE-72172 Sulz</p>\n<p>Veran
 staltet von:<br />\nEv. Allianz Sulz<br />\n<a href="https://www.cvents.e
 u/de/gebetskonzert-der-ev-allianz-in-sulz-am-neckar-liederabend-zur-gebets
 woche-mit-martin-pepper-sulz-18012026/#promoter">Infos und Kontakt <i></i></a></p>\n
CATEGORIES:Konzerte 2026
URL;VALUE=URI:https://martinpepper.de/mc-events/gebetskonzert-in-sulz-am-ne
 ckar/
METHOD:PUBLISH
END:VEVENT
END:VCALENDAR