BEGIN:VCALENDAR
VERSION:2.0
PRODID:spatie/icalendar-generator
DESCRIPTION:Veranstaltungen von Songwriter Martin Pepper
X-WR-CALDESC:Veranstaltungen von Songwriter Martin Pepper
REFRESH-INTERVAL;VALUE=DURATION:PT1440M
X-PUBLISHED-TTL:PT1440M
BEGIN:VTIMEZONE
TZID:Europe/Berlin
BEGIN:STANDARD
DTSTART:20251026T030000Z
TZOFFSETFROM:+0200
TZOFFSETTO:+0100
END:STANDARD
BEGIN:DAYLIGHT
DTSTART:20260329T020000Z
TZOFFSETFROM:+0100
TZOFFSETTO:+0200
END:DAYLIGHT
END:VTIMEZONE
BEGIN:VTIMEZONE
TZID:UTC
BEGIN:STANDARD
DTSTART:20250723T191606Z
TZOFFSETFROM:+0000
TZOFFSETTO:+0000
END:STANDARD
END:VTIMEZONE
BEGIN:VEVENT
UID:142-58
DTSTAMP:20260419T191606Z
SUMMARY:Konzert und Gottesdienst in Eisenberg
LOCATION:
ORGANIZER;CN=martin pepper:MAILTO:mail@peppersongs.com
DTSTART;TZID=Europe/Berlin;VALUE=DATE:20260131
DTEND;TZID=Europe/Berlin;VALUE=DATE:20260202
X-ALT-DESC;FMTTYPE=TEXT/HTML:<p><strong>Konzert und Ökumenischer Gottesdie
 nst in Eisenberg</strong></p>\n<p>Konzert: Samstag\, 31. Jan. 18.00 Uhr<br />\nÖkumenischer Gottesdienst\, Sonntag 01. Feb. 10.00 Uhr</p>\n<p>Prote
 stantische Kirchengemeinde Eisenberg</p>\n<p>Friedrich-Ebert-Strasse 15<br />\n67304 Eisenberg (bei Worms/ Kaiserslautern)</p>\n<p>Pfarrer Hauth</p>
 \n<p>Kontakt: Hans-Ludwig Hase<br />\n<a href="mailto:E-H.Hase@web.de">E
 -H.Hase@web.de</a></p>\n
CATEGORIES:Konzerte 2026
URL;VALUE=URI:https://martinpepper.de/mc-events/konzert-und-gottesdienst-in
 -eisenberg/
METHOD:PUBLISH
END:VEVENT
END:VCALENDAR