BEGIN:VCALENDAR
VERSION:2.0
PRODID:spatie/icalendar-generator
DESCRIPTION:Veranstaltungen von Songwriter Martin Pepper
X-WR-CALDESC:Veranstaltungen von Songwriter Martin Pepper
REFRESH-INTERVAL;VALUE=DURATION:PT1440M
X-PUBLISHED-TTL:PT1440M
BEGIN:VTIMEZONE
TZID:Europe/Berlin
BEGIN:STANDARD
DTSTART:20241027T030000Z
TZOFFSETFROM:+0200
TZOFFSETTO:+0100
END:STANDARD
BEGIN:DAYLIGHT
DTSTART:20250330T020000Z
TZOFFSETFROM:+0100
TZOFFSETTO:+0200
END:DAYLIGHT
END:VTIMEZONE
BEGIN:VTIMEZONE
TZID:UTC
BEGIN:STANDARD
DTSTART:20250723T214637Z
TZOFFSETFROM:+0000
TZOFFSETTO:+0000
END:STANDARD
END:VTIMEZONE
BEGIN:VEVENT
UID:14-9
DTSTAMP:20260419T214637Z
SUMMARY:flügelleicht in Bunde (Ostfriesland)
LOCATION:
ORGANIZER;CN=martin pepper:MAILTO:mail@peppersongs.com
DTSTART;TZID=Europe/Berlin;VALUE=DATE:20250327
DTEND;TZID=Europe/Berlin;VALUE=DATE:20250328
X-ALT-DESC;FMTTYPE=TEXT/HTML:<p>Donnerstag: 27.03.2025\, 19.30 Uhr<br />\nE
 intritt frei\, Spenden willkommen</p>\n<p>Evangelisch altreformierte Kirch
 e Bunde</p>\n<p>Weenerstrasse 7<br />\n26831 Bunde (Ostfriesland)</p>\n<p>
 Kontakt: Stefan Kolthoff<br />\nMobil: +49 160 8436666</p>\n
CATEGORIES:Konzerte 2025
URL;VALUE=URI:https://martinpepper.de/mc-events/fluegelleicht-in-bunde-ostf
 riesland/
METHOD:PUBLISH
END:VEVENT
END:VCALENDAR