BEGIN:VCALENDAR
VERSION:2.0
PRODID:spatie/icalendar-generator
DESCRIPTION:Veranstaltungen von Songwriter Martin Pepper
X-WR-CALDESC:Veranstaltungen von Songwriter Martin Pepper
REFRESH-INTERVAL;VALUE=DURATION:PT1440M
X-PUBLISHED-TTL:PT1440M
BEGIN:VTIMEZONE
TZID:Europe/Berlin
BEGIN:DAYLIGHT
DTSTART:20250330T020000Z
TZOFFSETFROM:+0100
TZOFFSETTO:+0200
END:DAYLIGHT
BEGIN:STANDARD
DTSTART:20251026T030000Z
TZOFFSETFROM:+0200
TZOFFSETTO:+0100
END:STANDARD
BEGIN:DAYLIGHT
DTSTART:20260329T020000Z
TZOFFSETFROM:+0100
TZOFFSETTO:+0200
END:DAYLIGHT
END:VTIMEZONE
BEGIN:VTIMEZONE
TZID:UTC
BEGIN:STANDARD
DTSTART:20250723T235640Z
TZOFFSETFROM:+0000
TZOFFSETTO:+0000
END:STANDARD
END:VTIMEZONE
BEGIN:VEVENT
UID:125-52
DTSTAMP:20260419T235640Z
SUMMARY:flügelleicht in Weißenburg
LOCATION:
ORGANIZER;CN=martin pepper:MAILTO:mail@peppersongs.com
DTSTART;TZID=Europe/Berlin;VALUE=DATE:20251018
DTEND;TZID=Europe/Berlin;VALUE=DATE:20251019
X-ALT-DESC;FMTTYPE=TEXT/HTML:<p>Samstag\, 18.Oktober\, 19.00 Uhr</p>\n<p>Or
 t Ev. meth. Christuskirche Weißenburg</p>\n<p>Schanzmauer 11<br />\n91781
  Weißenburg</p>\n<p>Kontakt: Karlheinz Mößner<br />\nAuf der Wied 18\, 
 91781 Weißenburg<br />\nFestnetz:   09141 3772<br />\nHandy: 0175 91 16
  633</p>\n
CATEGORIES:Konzerte 2025
URL;VALUE=URI:https://martinpepper.de/mc-events/fluegelleicht-in-weissenbur
 g/
METHOD:PUBLISH
END:VEVENT
END:VCALENDAR