BEGIN:VCALENDAR
VERSION:2.0
PRODID:spatie/icalendar-generator
DESCRIPTION:Veranstaltungen von Songwriter Martin Pepper
X-WR-CALDESC:Veranstaltungen von Songwriter Martin Pepper
REFRESH-INTERVAL;VALUE=DURATION:PT1440M
X-PUBLISHED-TTL:PT1440M
BEGIN:VTIMEZONE
TZID:Europe/Berlin
BEGIN:DAYLIGHT
DTSTART:20250330T020000Z
TZOFFSETFROM:+0100
TZOFFSETTO:+0200
END:DAYLIGHT
BEGIN:STANDARD
DTSTART:20251026T030000Z
TZOFFSETFROM:+0200
TZOFFSETTO:+0100
END:STANDARD
END:VTIMEZONE
BEGIN:VTIMEZONE
TZID:UTC
BEGIN:STANDARD
DTSTART:20250724T050346Z
TZOFFSETFROM:+0000
TZOFFSETTO:+0000
END:STANDARD
END:VTIMEZONE
BEGIN:VEVENT
UID:118-47
DTSTAMP:20260420T050346Z
SUMMARY:flügelleicht in Wilnsdorf–Flammersbach
LOCATION:
ORGANIZER;CN=martin pepper:MAILTO:mail@peppersongs.com
DTSTART;TZID=Europe/Berlin;VALUE=DATE:20250921
DTEND;TZID=Europe/Berlin;VALUE=DATE:20250922
X-ALT-DESC;FMTTYPE=TEXT/HTML:<p>Sonntag: 21.09.2025\, Beginn 19.30 Uhr\, Ei
 nlass ab 19.00 Uhr</p>\n<p>CVJM Flammersbach</p>\n<p>Ev.Vereinhaus<br />\n
 Schillerstrasse 4<br />\n57234 Wilnsdorf - Flammersbach</p>\n<p>Kontakt: M
 aik Schöler<br />\nTel.: 0151-68110998<br />\nMail:  thomas.meiswinkel@c
 vjm-flammersbach.de</p>\n
CATEGORIES:Konzerte 2025
URL;VALUE=URI:https://martinpepper.de/mc-events/fluegelleicht-in-wilnsdorf-
 flammersbach/
METHOD:PUBLISH
END:VEVENT
END:VCALENDAR