BEGIN:VCALENDAR
VERSION:2.0
PRODID:spatie/icalendar-generator
DESCRIPTION:Veranstaltungen von Songwriter Martin Pepper
X-WR-CALDESC:Veranstaltungen von Songwriter Martin Pepper
REFRESH-INTERVAL;VALUE=DURATION:PT1440M
X-PUBLISHED-TTL:PT1440M
BEGIN:VTIMEZONE
TZID:Europe/Berlin
BEGIN:STANDARD
DTSTART:20241027T030000Z
TZOFFSETFROM:+0200
TZOFFSETTO:+0100
END:STANDARD
BEGIN:DAYLIGHT
DTSTART:20250330T020000Z
TZOFFSETFROM:+0100
TZOFFSETTO:+0200
END:DAYLIGHT
END:VTIMEZONE
BEGIN:VTIMEZONE
TZID:UTC
BEGIN:STANDARD
DTSTART:20250723T232347Z
TZOFFSETFROM:+0000
TZOFFSETTO:+0000
END:STANDARD
END:VTIMEZONE
BEGIN:VEVENT
UID:9-6
DTSTAMP:20260419T232347Z
SUMMARY:flügelleicht in Kleinaspach
LOCATION:
ORGANIZER;CN=martin pepper:MAILTO:mail@peppersongs.com
DTSTART;TZID=Europe/Berlin;VALUE=DATE:20250309
DTEND;TZID=Europe/Berlin;VALUE=DATE:20250310
X-ALT-DESC;FMTTYPE=TEXT/HTML:<p>Sonntag 09.03.2025\, 18.00 Uhr</p>\n<p>Niko
 laikirche Kleinaspach</p>\n<p>Kirchstr.3<strong><br />\n</strong>71546 Kle
 inaspach</p>\n<p>Kontakt: Wolfgang Schopf<br />\nMobil.: 0172 6255096</p>\
 n
CATEGORIES:Konzerte 2025
URL;VALUE=URI:https://martinpepper.de/mc-events/fluegelleicht-in-kleinaspac
 h/
METHOD:PUBLISH
END:VEVENT
END:VCALENDAR