BEGIN:VCALENDAR
VERSION:2.0
PRODID:spatie/icalendar-generator
DESCRIPTION:Veranstaltungen von Songwriter Martin Pepper
X-WR-CALDESC:Veranstaltungen von Songwriter Martin Pepper
REFRESH-INTERVAL;VALUE=DURATION:PT1440M
X-PUBLISHED-TTL:PT1440M
BEGIN:VTIMEZONE
TZID:Europe/Berlin
BEGIN:STANDARD
DTSTART:20241027T030000Z
TZOFFSETFROM:+0200
TZOFFSETTO:+0100
END:STANDARD
BEGIN:DAYLIGHT
DTSTART:20250330T020000Z
TZOFFSETFROM:+0100
TZOFFSETTO:+0200
END:DAYLIGHT
BEGIN:STANDARD
DTSTART:20251026T030000Z
TZOFFSETFROM:+0200
TZOFFSETTO:+0100
END:STANDARD
END:VTIMEZONE
BEGIN:VTIMEZONE
TZID:UTC
BEGIN:STANDARD
DTSTART:20250724T003831Z
TZOFFSETFROM:+0000
TZOFFSETTO:+0000
END:STANDARD
END:VTIMEZONE
BEGIN:VEVENT
UID:87-23
DTSTAMP:20260420T003831Z
SUMMARY:flügelleicht in Gschwend
LOCATION:
ORGANIZER;CN=martin pepper:MAILTO:mail@peppersongs.com
DTSTART;TZID=Europe/Berlin;VALUE=DATE:20250704
DTEND;TZID=Europe/Berlin;VALUE=DATE:20250705
X-ALT-DESC;FMTTYPE=TEXT/HTML:<p>Freitag\, 04.07.2025\, 19:30 Uhr Empfang mi
 t Stehimbiss\, 20.00 Konzert</p>\n<p>Evangelische Kirchengemeinde Gschwend
 </p>\n<p>Welzheimer Straße 8<br />\n74417 Gschwend<br />\nTelefon: 07972 
 72163</p>\n<p>Kontakt: Gottlieb Zimmermann<br />\nTel. 07972-6452<br />\nM
 ail: jgzimmermann@web.de</p>\n
CATEGORIES:Konzerte 2025
URL;VALUE=URI:https://martinpepper.de/mc-events/fluegelleicht-in-gschwend/
METHOD:PUBLISH
END:VEVENT
END:VCALENDAR