BEGIN:VCALENDAR
VERSION:2.0
PRODID:spatie/icalendar-generator
DESCRIPTION:Veranstaltungen von Songwriter Martin Pepper
X-WR-CALDESC:Veranstaltungen von Songwriter Martin Pepper
REFRESH-INTERVAL;VALUE=DURATION:PT1440M
X-PUBLISHED-TTL:PT1440M
BEGIN:VTIMEZONE
TZID:Europe/Berlin
BEGIN:STANDARD
DTSTART:20241027T030000Z
TZOFFSETFROM:+0200
TZOFFSETTO:+0100
END:STANDARD
BEGIN:DAYLIGHT
DTSTART:20250330T020000Z
TZOFFSETFROM:+0100
TZOFFSETTO:+0200
END:DAYLIGHT
END:VTIMEZONE
BEGIN:VTIMEZONE
TZID:UTC
BEGIN:STANDARD
DTSTART:20250723T233335Z
TZOFFSETFROM:+0000
TZOFFSETTO:+0000
END:STANDARD
END:VTIMEZONE
BEGIN:VEVENT
UID:73-19
DTSTAMP:20260419T233335Z
SUMMARY:flügelleicht in Ehningen
LOCATION:
ORGANIZER;CN=martin pepper:MAILTO:mail@peppersongs.com
DTSTART;TZID=Europe/Berlin;VALUE=DATE:20250222
DTEND;TZID=Europe/Berlin;VALUE=DATE:20250223
X-ALT-DESC;FMTTYPE=TEXT/HTML:<p>Samstag\, 22.02.2025\, 19.00 Uhr</p>\n<p>Ne
 uapostolische Kirche</p>\n<p>Altdorfer Weg 11<br />\n71139 Ehningen</p>\n<p>Kontakt: Markus Süße<br />\nMobil.: 0174 915 4076<br />\nTel.: 07034 9
 93075<br />\nmarkus.suesse@gmx.de</p>\n
CATEGORIES:Konzerte 2025
URL;VALUE=URI:https://martinpepper.de/mc-events/fluegelleicht-in-ehningen/
METHOD:PUBLISH
END:VEVENT
END:VCALENDAR