BEGIN:VCALENDAR
VERSION:2.0
PRODID:spatie/icalendar-generator
DESCRIPTION:Veranstaltungen von Songwriter Martin Pepper
X-WR-CALDESC:Veranstaltungen von Songwriter Martin Pepper
REFRESH-INTERVAL;VALUE=DURATION:PT1440M
X-PUBLISHED-TTL:PT1440M
BEGIN:VTIMEZONE
TZID:Europe/Berlin
BEGIN:DAYLIGHT
DTSTART:20260329T020000Z
TZOFFSETFROM:+0100
TZOFFSETTO:+0200
END:DAYLIGHT
BEGIN:STANDARD
DTSTART:20261025T030000Z
TZOFFSETFROM:+0200
TZOFFSETTO:+0100
END:STANDARD
BEGIN:DAYLIGHT
DTSTART:20270328T020000Z
TZOFFSETFROM:+0100
TZOFFSETTO:+0200
END:DAYLIGHT
END:VTIMEZONE
BEGIN:VTIMEZONE
TZID:UTC
BEGIN:STANDARD
DTSTART:20250723T145314Z
TZOFFSETFROM:+0000
TZOFFSETTO:+0000
END:STANDARD
END:VTIMEZONE
BEGIN:VEVENT
UID:699-69
DTSTAMP:20260419T145314Z
SUMMARY:Konzert in Winnenden
LOCATION:
ORGANIZER;CN=martin pepper:MAILTO:mail@peppersongs.com
DTSTART;TZID=Europe/Berlin;VALUE=DATE:20261114
DTEND;TZID=Europe/Berlin;VALUE=DATE:20261115
X-ALT-DESC;FMTTYPE=TEXT/HTML:<p><strong>Samstag\, 14.November\, 71364 Winne
 nden<br />\nBeginn: 19.00 </strong></p>\n<p>Pfarrer Paul Vögler<br />\nE
 vangelische Kirchengemeinde Birkmannsweiler-Höfen-Baach</p>\n<p>Salzbergw
 eg 57<br />\n71364 Winnenden</p>\n<p>Tel: 07195 72664</p>\n
CATEGORIES:Konzerte 2026
URL;VALUE=URI:https://martinpepper.de/mc-events/konzert-in-winnenden/
METHOD:PUBLISH
END:VEVENT
END:VCALENDAR