BEGIN:VCALENDAR
VERSION:2.0
PRODID:spatie/icalendar-generator
DESCRIPTION:Veranstaltungen von Songwriter Martin Pepper
X-WR-CALDESC:Veranstaltungen von Songwriter Martin Pepper
REFRESH-INTERVAL;VALUE=DURATION:PT1440M
X-PUBLISHED-TTL:PT1440M
BEGIN:VTIMEZONE
TZID:Europe/Berlin
BEGIN:DAYLIGHT
DTSTART:20260329T020000Z
TZOFFSETFROM:+0100
TZOFFSETTO:+0200
END:DAYLIGHT
BEGIN:STANDARD
DTSTART:20261025T030000Z
TZOFFSETFROM:+0200
TZOFFSETTO:+0100
END:STANDARD
BEGIN:DAYLIGHT
DTSTART:20270328T020000Z
TZOFFSETFROM:+0100
TZOFFSETTO:+0200
END:DAYLIGHT
END:VTIMEZONE
BEGIN:VTIMEZONE
TZID:UTC
BEGIN:STANDARD
DTSTART:20250725T140213Z
TZOFFSETFROM:+0000
TZOFFSETTO:+0000
END:STANDARD
END:VTIMEZONE
BEGIN:VEVENT
UID:692-67
DTSTAMP:20260421T140213Z
SUMMARY:Konzert in Wilnsdorf - Flamersbach
LOCATION:
ORGANIZER;CN=martin pepper:MAILTO:mail@peppersongs.com
DTSTART;TZID=Europe/Berlin;VALUE=DATE:20261003
DTEND;TZID=Europe/Berlin;VALUE=DATE:20261004
X-ALT-DESC;FMTTYPE=TEXT/HTML:<p><strong>3.Oktober\, 57234 Wilnsdorf - Flame
 rsbach</strong><br />\n<strong>Beginn 19.00 Uhr</strong></p>\n<p>Gemeindez
 entrum Ev.kirchengemeinde<br />\nRödgener Strasse 109<br />\n57234 Wilnsd
 orf</p>\n
CATEGORIES:Konzerte 2026
URL;VALUE=URI:https://martinpepper.de/mc-events/konzert-in-wilnsdorf-flamer
 sbach/
METHOD:PUBLISH
END:VEVENT
END:VCALENDAR