BEGIN:VCALENDAR
VERSION:2.0
PRODID:spatie/icalendar-generator
DESCRIPTION:Veranstaltungen von Songwriter Martin Pepper
X-WR-CALDESC:Veranstaltungen von Songwriter Martin Pepper
REFRESH-INTERVAL;VALUE=DURATION:PT1440M
X-PUBLISHED-TTL:PT1440M
BEGIN:VTIMEZONE
TZID:Europe/Berlin
BEGIN:STANDARD
DTSTART:20251026T030000Z
TZOFFSETFROM:+0200
TZOFFSETTO:+0100
END:STANDARD
BEGIN:DAYLIGHT
DTSTART:20260329T020000Z
TZOFFSETFROM:+0100
TZOFFSETTO:+0200
END:DAYLIGHT
BEGIN:STANDARD
DTSTART:20261025T030000Z
TZOFFSETFROM:+0200
TZOFFSETTO:+0100
END:STANDARD
END:VTIMEZONE
BEGIN:VTIMEZONE
TZID:UTC
BEGIN:STANDARD
DTSTART:20250725T135306Z
TZOFFSETFROM:+0000
TZOFFSETTO:+0000
END:STANDARD
END:VTIMEZONE
BEGIN:VEVENT
UID:686-62
DTSTAMP:20260421T135306Z
SUMMARY:Konzert in 4030 Linz  (A)
LOCATION:
ORGANIZER;CN=martin pepper:MAILTO:mail@peppersongs.com
DTSTART;TZID=Europe/Berlin;VALUE=DATE:20260619
DTEND;TZID=Europe/Berlin;VALUE=DATE:20260620
X-ALT-DESC;FMTTYPE=TEXT/HTML:<p><strong>Freitag\, 19. Juni Kaleidoskop Konz
 ert in 4030 Linz (A)\, Beginn 19.00 Uhr</strong></p>\n<p style="margin: 0 cm">Cornerstone Gemeinde<br />\nLandwiedstrasse 140<br />\n4030 Linz (A)</p>\n
CATEGORIES:Konzerte 2026
URL;VALUE=URI:https://martinpepper.de/mc-events/konzert-in-4030-linz-a/
METHOD:PUBLISH
END:VEVENT
END:VCALENDAR