BEGIN:VCALENDAR
VERSION:2.0
PRODID:spatie/icalendar-generator
DESCRIPTION:Veranstaltungen von Songwriter Martin Pepper
X-WR-CALDESC:Veranstaltungen von Songwriter Martin Pepper
REFRESH-INTERVAL;VALUE=DURATION:PT1440M
X-PUBLISHED-TTL:PT1440M
BEGIN:VTIMEZONE
TZID:Europe/Berlin
BEGIN:STANDARD
DTSTART:20241027T030000Z
TZOFFSETFROM:+0200
TZOFFSETTO:+0100
END:STANDARD
BEGIN:DAYLIGHT
DTSTART:20250330T020000Z
TZOFFSETFROM:+0100
TZOFFSETTO:+0200
END:DAYLIGHT
BEGIN:STANDARD
DTSTART:20251026T030000Z
TZOFFSETFROM:+0200
TZOFFSETTO:+0100
END:STANDARD
END:VTIMEZONE
BEGIN:VTIMEZONE
TZID:UTC
BEGIN:STANDARD
DTSTART:20250724T005756Z
TZOFFSETFROM:+0000
TZOFFSETTO:+0000
END:STANDARD
END:VTIMEZONE
BEGIN:VEVENT
UID:17-12
DTSTAMP:20260420T005756Z
SUMMARY:flügelleicht in Allendorf/Eder
LOCATION:
ORGANIZER;CN=martin pepper:MAILTO:mail@peppersongs.com
DTSTART;TZID=Europe/Berlin;VALUE=DATE:20250427
DTEND;TZID=Europe/Berlin;VALUE=DATE:20250428
X-ALT-DESC;FMTTYPE=TEXT/HTML:<p>Sonntag: 27.04.2025\, 16.00 Uhr</p>\n<p>Fre
 ie evangelische Gemeinde Ederbergland<br />Hermann-Löns-Weg 3<br />35108 
 Allendorf/Eder</p>\n<p>Kontakt: Melanie Stolz <br />Tel.: 06452-1820<br />E-Mail: hallo@ederbergland.feg.de</p>\n
CATEGORIES:Konzerte 2025
URL;VALUE=URI:https://martinpepper.de/mc-events/fluegelleicht-in-allendorf-
 eder/
METHOD:PUBLISH
END:VEVENT
END:VCALENDAR