BEGIN:VCALENDAR
VERSION:2.0
PRODID:spatie/icalendar-generator
DESCRIPTION:Veranstaltungen von Songwriter Martin Pepper
X-WR-CALDESC:Veranstaltungen von Songwriter Martin Pepper
REFRESH-INTERVAL;VALUE=DURATION:PT1440M
X-PUBLISHED-TTL:PT1440M
BEGIN:VTIMEZONE
TZID:Europe/Berlin
BEGIN:DAYLIGHT
DTSTART:20260329T020000Z
TZOFFSETFROM:+0100
TZOFFSETTO:+0200
END:DAYLIGHT
BEGIN:STANDARD
DTSTART:20261025T030000Z
TZOFFSETFROM:+0200
TZOFFSETTO:+0100
END:STANDARD
BEGIN:DAYLIGHT
DTSTART:20270328T020000Z
TZOFFSETFROM:+0100
TZOFFSETTO:+0200
END:DAYLIGHT
END:VTIMEZONE
BEGIN:VTIMEZONE
TZID:UTC
BEGIN:STANDARD
DTSTART:20250725T111531Z
TZOFFSETFROM:+0000
TZOFFSETTO:+0000
END:STANDARD
END:VTIMEZONE
BEGIN:VEVENT
UID:165-42
DTSTAMP:20260421T111531Z
SUMMARY:Konzert in Ostfildern-Scharnhausen
LOCATION:
ORGANIZER;CN=martin pepper:MAILTO:mail@peppersongs.com
DTSTART;TZID=Europe/Berlin;VALUE=DATE:20261008
DTEND;TZID=Europe/Berlin;VALUE=DATE:20261009
X-ALT-DESC;FMTTYPE=TEXT/HTML:<p><strong>08.Oktober Kaleidoskop - Konzert in
  Ostfildern-Scharnhausen</strong></p>\n<p>Ev. Kirche Scharnhausen<br />\nN
 ürtinger Straße 5\, 73760 Ostfildern-Scharnhausen</p>\n<p>Kontakt<br />\
 nTel: 07158/2240<br />\nMail: Pfarramt.Scharnhausen@elkw.de</p>\n
CATEGORIES:Konzerte 2026
URL;VALUE=URI:https://martinpepper.de/mc-events/konzert-in-ostfildern-schar
 nhausen/
METHOD:PUBLISH
END:VEVENT
END:VCALENDAR