BEGIN:VCALENDAR
VERSION:2.0
PRODID:spatie/icalendar-generator
DESCRIPTION:Veranstaltungen von Songwriter Martin Pepper
X-WR-CALDESC:Veranstaltungen von Songwriter Martin Pepper
REFRESH-INTERVAL;VALUE=DURATION:PT1440M
X-PUBLISHED-TTL:PT1440M
BEGIN:VTIMEZONE
TZID:Europe/Berlin
BEGIN:DAYLIGHT
DTSTART:20260329T020000Z
TZOFFSETFROM:+0100
TZOFFSETTO:+0200
END:DAYLIGHT
BEGIN:STANDARD
DTSTART:20261025T030000Z
TZOFFSETFROM:+0200
TZOFFSETTO:+0100
END:STANDARD
END:VTIMEZONE
BEGIN:VTIMEZONE
TZID:UTC
BEGIN:STANDARD
DTSTART:20250724T033249Z
TZOFFSETFROM:+0000
TZOFFSETTO:+0000
END:STANDARD
END:VTIMEZONE
BEGIN:VEVENT
UID:163-36
DTSTAMP:20260420T033249Z
SUMMARY:flügelleicht in Aue-Bad Schlema
LOCATION:
ORGANIZER;CN=martin pepper:MAILTO:mail@peppersongs.com
DTSTART;TZID=Europe/Berlin;VALUE=DATE:20260905
DTEND;TZID=Europe/Berlin;VALUE=DATE:20260906
X-ALT-DESC;FMTTYPE=TEXT/HTML:<p><strong>05. September Kaleidoskop - Konzert
  </strong> <strong>Aue </strong></p>\n<p>Friedenskirche Aue-Zelle </p>
 \n<p>Kantstraße 2<br />\n08280 Aue-Bad Schlema</p>\n<p>Kontakt: Uwe Heim<br />\nTel. Kirchenbüro:03771 551195<br />\nEmail: heim.uwe@freenet.de<br />\nTelefonnummer: 01723934402</p>\n
CATEGORIES:Konzerte 2026
URL;VALUE=URI:https://martinpepper.de/mc-events/fluegelleicht-in-aue-bad-sc
 hlema/
METHOD:PUBLISH
END:VEVENT
END:VCALENDAR