BEGIN:VCALENDAR
VERSION:2.0
PRODID:spatie/icalendar-generator
DESCRIPTION:Veranstaltungen von Songwriter Martin Pepper
X-WR-CALDESC:Veranstaltungen von Songwriter Martin Pepper
REFRESH-INTERVAL;VALUE=DURATION:PT1440M
X-PUBLISHED-TTL:PT1440M
BEGIN:VTIMEZONE
TZID:Europe/Berlin
BEGIN:DAYLIGHT
DTSTART:20260329T020000Z
TZOFFSETFROM:+0100
TZOFFSETTO:+0200
END:DAYLIGHT
BEGIN:STANDARD
DTSTART:20261025T030000Z
TZOFFSETFROM:+0200
TZOFFSETTO:+0100
END:STANDARD
END:VTIMEZONE
BEGIN:VTIMEZONE
TZID:UTC
BEGIN:STANDARD
DTSTART:20250724T015816Z
TZOFFSETFROM:+0000
TZOFFSETTO:+0000
END:STANDARD
END:VTIMEZONE
BEGIN:VEVENT
UID:162-41
DTSTAMP:20260420T015816Z
SUMMARY:Konzert in 98646 Hildburghausen
LOCATION:
ORGANIZER;CN=martin pepper:MAILTO:mail@peppersongs.com
DTSTART;TZID=Europe/Berlin;VALUE=DATE:20260904
DTEND;TZID=Europe/Berlin;VALUE=DATE:20260905
X-ALT-DESC;FMTTYPE=TEXT/HTML:<p><strong>04. September Kaleidoskop - Konzert
  Hildburghausen\, Beginn 19.00 Uhr</strong></p>\n<p>Ort: Evangelisch-Freik
 irchliche Gemeinde Hildburghausen<br />\nFriedrich-Fröbel-Str. 1<br />\n9
 8646 Hildburghausen</p>\n<p>Kontakt: Thomas Hopf<br />\nAdresse: Hildburgh
 ausen 98646<br />\nEmail: <a href="mailto:thomas-hopf@gmx.de">thomas-hop
 f@gmx.de</a><br />\nTelefonnummer: 01719149691</p>\n
CATEGORIES:Konzerte 2026
URL;VALUE=URI:https://martinpepper.de/mc-events/konzert-in-98646-hildburgha
 usen/
METHOD:PUBLISH
END:VEVENT
END:VCALENDAR