BEGIN:VCALENDAR
VERSION:2.0
PRODID:spatie/icalendar-generator
DESCRIPTION:Veranstaltungen von Songwriter Martin Pepper
X-WR-CALDESC:Veranstaltungen von Songwriter Martin Pepper
REFRESH-INTERVAL;VALUE=DURATION:PT1440M
X-PUBLISHED-TTL:PT1440M
BEGIN:VTIMEZONE
TZID:Europe/Berlin
BEGIN:DAYLIGHT
DTSTART:20260329T020000Z
TZOFFSETFROM:+0100
TZOFFSETTO:+0200
END:DAYLIGHT
BEGIN:STANDARD
DTSTART:20261025T030000Z
TZOFFSETFROM:+0200
TZOFFSETTO:+0100
END:STANDARD
END:VTIMEZONE
BEGIN:VTIMEZONE
TZID:UTC
BEGIN:STANDARD
DTSTART:20250723T231424Z
TZOFFSETFROM:+0000
TZOFFSETTO:+0000
END:STANDARD
END:VTIMEZONE
BEGIN:VEVENT
UID:160-31
DTSTAMP:20260419T231424Z
SUMMARY:Konzert in Henstedt-Ulzburg
LOCATION:
ORGANIZER;CN=martin pepper:MAILTO:mail@peppersongs.com
DTSTART;TZID=Europe/Berlin;VALUE=DATE:20260829
DTEND;TZID=Europe/Berlin;VALUE=DATE:20260830
X-ALT-DESC;FMTTYPE=TEXT/HTML:<p><strong>29. August</strong> <strong>Kaleid
 oskop - Konzert </strong> <strong>Henstedt - Ulzburg</strong></p>\n<p>Ev
 angelisch-Lutherische Kirchengemeinde<br />\nSt. Petrus Henstedt-Rhen</p>\
 n<p>Norderstedter Straße 22<br />\n24558 Henstedt-Ulzburg</p>\n<p>Kontakt
 : Petra Molitor<br />\nInternet: www.kirche-rhen.de<br />\nAdresse: Henste
 dt-Ulzburg\, 24558<br />\nEmail: petra.molitor@kirche-rhen.de<br />\nTelef
 onnummer: 04193/8782711</p>\n
CATEGORIES:Konzerte 2026
URL;VALUE=URI:https://martinpepper.de/mc-events/konzert-in-henstedt-ulzburg
 /
METHOD:PUBLISH
END:VEVENT
END:VCALENDAR