BEGIN:VCALENDAR
VERSION:2.0
PRODID:spatie/icalendar-generator
DESCRIPTION:Veranstaltungen von Songwriter Martin Pepper
X-WR-CALDESC:Veranstaltungen von Songwriter Martin Pepper
REFRESH-INTERVAL;VALUE=DURATION:PT1440M
X-PUBLISHED-TTL:PT1440M
BEGIN:VTIMEZONE
TZID:Europe/Berlin
BEGIN:STANDARD
DTSTART:20251026T030000Z
TZOFFSETFROM:+0200
TZOFFSETTO:+0100
END:STANDARD
BEGIN:DAYLIGHT
DTSTART:20260329T020000Z
TZOFFSETFROM:+0100
TZOFFSETTO:+0200
END:DAYLIGHT
BEGIN:STANDARD
DTSTART:20261025T030000Z
TZOFFSETFROM:+0200
TZOFFSETTO:+0100
END:STANDARD
END:VTIMEZONE
BEGIN:VTIMEZONE
TZID:UTC
BEGIN:STANDARD
DTSTART:20250723T150843Z
TZOFFSETFROM:+0000
TZOFFSETTO:+0000
END:STANDARD
END:VTIMEZONE
BEGIN:VEVENT
UID:148-50
DTSTAMP:20260419T150843Z
SUMMARY:Konzert in 08223 Falkenstein
LOCATION:
ORGANIZER;CN=martin pepper:MAILTO:mail@peppersongs.com
DTSTART;TZID=Europe/Berlin;VALUE=DATE:20260513
DTEND;TZID=Europe/Berlin;VALUE=DATE:20260514
X-ALT-DESC;FMTTYPE=TEXT/HTML:<p><strong>13. Mai</strong> <strong>Kaleidosk
 op - Konzert</strong> <strong>Falkenstein\, Beginn: 19.00 Uhr</strong></p>\n<p>Kontakt: Kantorin<br />\nAnne Viehweger<br />\nTelefon: 03745 5237<b />\n<a href="mailto:anne.viehweger21@gmail.com">anne.viehweger21@gmail
 .com</a></p>\n<p>Ev.-Luth. Kirchgemeinde Falkenstein-Grünbach<br />\nAm M
 arkt 2<br />\n08223 Falkenstein</p>\n
CATEGORIES:Konzerte 2026
URL;VALUE=URI:https://martinpepper.de/mc-events/konzert-in-08223-falkenstei
 n/
METHOD:PUBLISH
END:VEVENT
END:VCALENDAR