BEGIN:VCALENDAR
VERSION:2.0
PRODID:spatie/icalendar-generator
DESCRIPTION:Veranstaltungen von Songwriter Martin Pepper
X-WR-CALDESC:Veranstaltungen von Songwriter Martin Pepper
REFRESH-INTERVAL;VALUE=DURATION:PT1440M
X-PUBLISHED-TTL:PT1440M
BEGIN:VTIMEZONE
TZID:Europe/Berlin
BEGIN:STANDARD
DTSTART:20251026T030000Z
TZOFFSETFROM:+0200
TZOFFSETTO:+0100
END:STANDARD
BEGIN:DAYLIGHT
DTSTART:20260329T020000Z
TZOFFSETFROM:+0100
TZOFFSETTO:+0200
END:DAYLIGHT
END:VTIMEZONE
BEGIN:VTIMEZONE
TZID:UTC
BEGIN:STANDARD
DTSTART:20250723T162107Z
TZOFFSETFROM:+0000
TZOFFSETTO:+0000
END:STANDARD
END:VTIMEZONE
BEGIN:VEVENT
UID:144-30
DTSTAMP:20260419T162107Z
SUMMARY:Konzert in Neustadt an der Weinstrasse
LOCATION:
ORGANIZER;CN=martin pepper:MAILTO:mail@peppersongs.com
DTSTART;TZID=Europe/Berlin;VALUE=DATE:20260404
DTEND;TZID=Europe/Berlin;VALUE=DATE:20260405
X-ALT-DESC;FMTTYPE=TEXT/HTML:<p><strong>Ostersamstag\, 4.April Kaleidoskop
  - Konzert in Neustadt an der Weinstrasse</strong></p>\n<p>Kontakt: Sabin
 e Stein<br />\nChristliche Gästehäuser Weinstrasse\, Flugplatzstr. 91-99
 \, 67435 Neustadt / W.</p>\n<p>Tel 06327 983-203<br />\nE-Mail: <a href="\">stein@gaestehaeuser-weinstras
 se.de</a><br />\nInternet: <a href="http://www.gaestehaeuser-weinstrasse
 .de/">www.gaestehaeuser-weinstrasse.de</a><br />\n<a href="http://www.ca
 mpus-lachen.de/">www.campus-lachen.de</a></p>\n
CATEGORIES:Konzerte 2026
URL;VALUE=URI:https://martinpepper.de/mc-events/konzert-in-neustadt-an-der-
 weinstrasse/
METHOD:PUBLISH
END:VEVENT
END:VCALENDAR