BEGIN:VCALENDAR
VERSION:2.0
PRODID:spatie/icalendar-generator
DESCRIPTION:Veranstaltungen von Songwriter Martin Pepper
X-WR-CALDESC:Veranstaltungen von Songwriter Martin Pepper
REFRESH-INTERVAL;VALUE=DURATION:PT1440M
X-PUBLISHED-TTL:PT1440M
BEGIN:VTIMEZONE
TZID:Europe/Berlin
BEGIN:DAYLIGHT
DTSTART:20250330T020000Z
TZOFFSETFROM:+0100
TZOFFSETTO:+0200
END:DAYLIGHT
BEGIN:STANDARD
DTSTART:20251026T030000Z
TZOFFSETFROM:+0200
TZOFFSETTO:+0100
END:STANDARD
BEGIN:DAYLIGHT
DTSTART:20260329T020000Z
TZOFFSETFROM:+0100
TZOFFSETTO:+0200
END:DAYLIGHT
END:VTIMEZONE
BEGIN:VTIMEZONE
TZID:UTC
BEGIN:STANDARD
DTSTART:20250723T205241Z
TZOFFSETFROM:+0000
TZOFFSETTO:+0000
END:STANDARD
END:VTIMEZONE
BEGIN:VEVENT
UID:122-28
DTSTAMP:20260419T205241Z
SUMMARY:flügelleicht in Balderschwang
LOCATION:
ORGANIZER;CN=martin pepper:MAILTO:mail@peppersongs.com
DTSTART;TZID=Europe/Berlin;VALUE=DATE:20251019
DTEND;TZID=Europe/Berlin;VALUE=DATE:20251020
X-ALT-DESC;FMTTYPE=TEXT/HTML:<p>Sonntag\, 19.Oktober\, 17.00 Uhr\, Einlass 
 16.30 Uhr</p>\n<p>Pfarrkirche St. Anton</p>\n<p>Dorf 6<br />\n87538 Balder
 schwang</p>\n<p>Kontakt: David Rüll<br />\nTel. +49 (0)8328 921-110<br />
 \nFax: +49 (0)8328 921-141<br />\nE-Mail: info(at)horeb.org</p>\n
CATEGORIES:Konzerte 2025
URL;VALUE=URI:https://martinpepper.de/mc-events/fluegelleicht-in-balderschw
 ang/
METHOD:PUBLISH
END:VEVENT
END:VCALENDAR