BEGIN:VCALENDAR
VERSION:2.0
PRODID:spatie/icalendar-generator
DESCRIPTION:Veranstaltungen von Songwriter Martin Pepper
X-WR-CALDESC:Veranstaltungen von Songwriter Martin Pepper
REFRESH-INTERVAL;VALUE=DURATION:PT1440M
X-PUBLISHED-TTL:PT1440M
BEGIN:VTIMEZONE
TZID:Europe/Berlin
BEGIN:STANDARD
DTSTART:20241027T030000Z
TZOFFSETFROM:+0200
TZOFFSETTO:+0100
END:STANDARD
BEGIN:DAYLIGHT
DTSTART:20250330T020000Z
TZOFFSETFROM:+0100
TZOFFSETTO:+0200
END:DAYLIGHT
END:VTIMEZONE
BEGIN:VTIMEZONE
TZID:UTC
BEGIN:STANDARD
DTSTART:20250723T231004Z
TZOFFSETFROM:+0000
TZOFFSETTO:+0000
END:STANDARD
END:VTIMEZONE
BEGIN:VEVENT
UID:12-7
DTSTAMP:20260419T231004Z
SUMMARY:flügelleicht in Dietenheim
LOCATION:
ORGANIZER;CN=martin pepper:MAILTO:mail@peppersongs.com
DTSTART;TZID=Europe/Berlin;VALUE=DATE:20250320
DTEND;TZID=Europe/Berlin;VALUE=DATE:20250321
X-ALT-DESC;FMTTYPE=TEXT/HTML:<p>Donnerstag: 20.03.2025\, 19.30 Uhr\, Einlas
 s ab 19.00 Uhr<br />Eintritt frei\, Spenden willkommen </p>\n<p>Evangelis
 che  Kirchengemeinde Dietenheim</p>\n<p>Carl Otto Str.1<br />89165 Diete
 nheim</p>\n<p>Kontakt: Willy Paal<br />89186 Illerrieden<br />Tel. 07306-
 2519<br />mobil 01520-5146327</p>\n
CATEGORIES:Konzerte 2025
URL;VALUE=URI:https://martinpepper.de/mc-events/fluegelleicht-in-dietenheim
 /
METHOD:PUBLISH
END:VEVENT
END:VCALENDAR