BEGIN:VCALENDAR
VERSION:2.0
PRODID:spatie/icalendar-generator
DESCRIPTION:Veranstaltungen von Songwriter Martin Pepper
X-WR-CALDESC:Veranstaltungen von Songwriter Martin Pepper
REFRESH-INTERVAL;VALUE=DURATION:PT1440M
X-PUBLISHED-TTL:PT1440M
BEGIN:VTIMEZONE
TZID:Europe/Berlin
BEGIN:DAYLIGHT
DTSTART:20250330T020000Z
TZOFFSETFROM:+0100
TZOFFSETTO:+0200
END:DAYLIGHT
BEGIN:STANDARD
DTSTART:20251026T030000Z
TZOFFSETFROM:+0200
TZOFFSETTO:+0100
END:STANDARD
END:VTIMEZONE
BEGIN:VTIMEZONE
TZID:UTC
BEGIN:STANDARD
DTSTART:20250724T021249Z
TZOFFSETFROM:+0000
TZOFFSETTO:+0000
END:STANDARD
END:VTIMEZONE
BEGIN:VEVENT
UID:112-15
DTSTAMP:20260420T021249Z
SUMMARY:flügelleicht in Stadthagen
LOCATION:
ORGANIZER;CN=martin pepper:MAILTO:mail@peppersongs.com
DTSTART;TZID=Europe/Berlin;VALUE=DATE:20250913
DTEND;TZID=Europe/Berlin;VALUE=DATE:20250914
X-ALT-DESC;FMTTYPE=TEXT/HTML:<p>Samstag: 13.09.2025\, Beginn 20.00 Uhr\, Ei
 nlass ab 19.30 Uhr</p>\n<p>Ecclesia Stadthagen</p>\n<p>Adresse: Aula Ratsg
 ymnasium Stadthagen<br />\nBüschinger Strasse 37<br />\n31655 Stadthagen</p>\n<p>Kontakt: Jürgen Sabolowitsch<br />\nTel.: 0173 3820342</p>\n
CATEGORIES:Konzerte 2025
URL;VALUE=URI:https://martinpepper.de/mc-events/fluegelleicht-in-stadthagen
 /
METHOD:PUBLISH
END:VEVENT
END:VCALENDAR