BEGIN:VCALENDAR
VERSION:2.0
PRODID:spatie/icalendar-generator
DESCRIPTION:Veranstaltungen von Songwriter Martin Pepper
X-WR-CALDESC:Veranstaltungen von Songwriter Martin Pepper
REFRESH-INTERVAL;VALUE=DURATION:PT1440M
X-PUBLISHED-TTL:PT1440M
BEGIN:VTIMEZONE
TZID:Europe/Berlin
BEGIN:STANDARD
DTSTART:20241027T030000Z
TZOFFSETFROM:+0200
TZOFFSETTO:+0100
END:STANDARD
BEGIN:DAYLIGHT
DTSTART:20250330T020000Z
TZOFFSETFROM:+0100
TZOFFSETTO:+0200
END:DAYLIGHT
BEGIN:STANDARD
DTSTART:20251026T030000Z
TZOFFSETFROM:+0200
TZOFFSETTO:+0100
END:STANDARD
END:VTIMEZONE
BEGIN:VTIMEZONE
TZID:UTC
BEGIN:STANDARD
DTSTART:20250723T202426Z
TZOFFSETFROM:+0000
TZOFFSETTO:+0000
END:STANDARD
END:VTIMEZONE
BEGIN:VEVENT
UID:107-35
DTSTAMP:20260419T202426Z
SUMMARY:flügelleicht in Gladenbach-Erdhausen
LOCATION:
ORGANIZER;CN=martin pepper:MAILTO:mail@peppersongs.com
DTSTART;TZID=Europe/Berlin;VALUE=DATE:20250620
DTEND;TZID=Europe/Berlin;VALUE=DATE:20250621
X-ALT-DESC;FMTTYPE=TEXT/HTML:<p>Freitag\, 20.06.2025\, 19.00 Uhr </p>\n<p>
 EFG Gladenbach-Erdhausen</p>\n<p>Am Falder 2<br />\n35075 Gladenbach-Erdha
 usen</p>\n<p>Kontakt: Klaus Wahl<br />\nTel: 016094680861<br />\nwww.efg-g
 ladenbach.de</p>\n
CATEGORIES:Konzerte 2025
URL;VALUE=URI:https://martinpepper.de/mc-events/fluegelleicht-in-gladenbach
 -erdhausen/
METHOD:PUBLISH
END:VEVENT
END:VCALENDAR